Workbook

Sheet 원가계산서
A1: 원 가 계 산 서
A2: 2019년 학가산온천 영업후 욕탕 청소 용역 산출내역서
A3: 비 목 구 분 | D3: 금 액 | E3: 구성비 | G3: 산 출 근 거
A4: 순 공 사 비 | B4: 재 료 비 | C4: 직접재료비
C5: 간접재료비
C6: 소 계 | D6: =SUM(D4:D5) -> 0
B7: 노 무 비 | C7: 직접노무비 | D7: =직접인건비산출표!I4+직접인건비산출표!I9 -> 89912250
C8: 퇴직충당금 | D8: ='퇴직금 산출'!H4 -> 7296250
C9: 소 계 | D9: =SUM(D7:D8) -> 97208500
B10: 복 리 후 생 비 | C10: 산재 보험료 | D10: ='복리후생비(5대보험)산정'!F6+'복리후생비(5대보험)산정'!F13 -> 1573472
C11: 국 민 연 금 | D11: ='복리후생비(5대보험)산정'!F7+'복리후생비(5대보험)산정'!F14 -> 4046061
C12: 건 강 보 험 | D12: ='복리후생비(5대보험)산정'!F8+'복리후생비(5대보험)산정'!F15 -> 2904168
C13: 노인장기요양보험 | D13: ='복리후생비(5대보험)산정'!F9+'복리후생비(5대보험)산정'!F16 -> 247152
C14: 고용 보험료 | D14: ='복리후생비(5대보험)산정'!F10+'복리후생비(5대보험)산정'!F17 -> 809220
C15: 임금채권보장보험 | D15: ='복리후생비(5대보험)산정'!F11+'복리후생비(5대보험)산정'!F18 -> 53951
C16: 피복비 | D16: ='복리후생비(피복비)'!F5 -> 300000
C17: 소 계 | D17: =SUM(D10:D16) -> 9934024
A18: 일 반 관 리 비 | D18: =(D9+D17)*F18 -> 4285701 | F18: 0.04 | G18: (노무비+복리후생비)*4%
A19: 이 윤 | D19: =(D9+D17+D18)*6% -> 6685693.5 | F19: 0.06 | G19: (노+복+일반관리비)*6%
A20: 합 계 | D20: =D6+D9+D17+D18+D19 -> 1.1811392e+08
A21: 부 가 가 치 세 | D21: =D20*0.1 -> 11811392 | E21: 0.1 | G21: 총원가의 *10%
A22: 총 액 | D22: =ROUNDDOWN((D20+D21),-3) -> 129925000 | G22: 천원미만절사
A23: 도 급 액 | D23: =ROUNDDOWN(D22,1) -> 129925000

Sheet 직접인건비산출표
A1: 직접 인건비 산출 조서
A2: 1. 연간 인건비 산출조서(1월~12월)
A3: 구 분 | B3: 직종명 | C3: 근무형태 | D3: 작업인원 | E3: 시간 | F3: 임금/시간 | G3: 1인당 월급여 | H3: 월간 금액 | I3: 년간 금액 | J3: 비 고
A4: 계 | G4: =SUM(G5:G6) -> 1459250 | H4: =SUM(H5:H6) -> 7296250 | I4: =SUM(I5:I6) -> 87555000
A5: 기본급 | B5: 단순노무종사원 | C5: 정상근무 | D5: 5 | E5: 130 | F5: 8980 | G5: =F5*E5 -> 1167400 | H5: =G5*D5 -> 5837000 | I5: =G5*12*D5 -> 70044000
A6: 기본급(야간) | B6: 단순노무종사원 | C6: 정상근무 | D6: 5 | E6: 65 | F6: =F5/2 -> 4490 | G6: =F6*E6 -> 291850 | H6: =G6*D6 -> 1459250 | I6: =G6*12*D6 -> 17511000
A7: 2. 성수기 1인증원시 추가 인건비 산출조서(1월, 2월, 3월, 11월, 12월)
A8: 구 분 | B8: 직종명 | C8: 근무형태 | D8: 작업인원 | E8: 시간 | F8: 임금/시간 | G8: 1인당 월급여 | H8: 월간 금액 | I8: 년간 금액 | J8: 비 고
A9: 계 | I9: =SUM(I10:I11) -> 2357250
A10: 기본급 | B10: 단순노무종사원 | C10: 정상근무 | D10: 1 | E10: 200 | F10: 8980 | I10: =E10*F10 -> 1796000
A11: 기본급(야간) | B11: 단순노무종사원 | C11: 정상근무 | D11: 1 | E11: 125 | F11: =F10/2 -> 4490 | I11: =E11*F11 -> 561250
A13: 주) 작업시간(근무)산출표
A14: 1. 소요인원은 남자목욕탕 2.5명, 여자목욕탕 2.5명(총 5명 적용), 단 성수기 1월, 2월, 3월, 11월, 12월 중 공휴일에만 1명 증원
A15: 2. 근무시간은 1일 4시간 근무 기준 24시간/주(야간근로 15시간/주)
A16: 3. 근무시간 4시간(20:30~24:30) 중 2.5시간(22:00~24:30)은 야간근로수당 50%할증적용
A17: 4. 년 52주 기준
A18: 5. 근무시간 산출표
A19: 가. 정상근무시간 산출표 : (24시간+4시간(주휴))Ｘ52주+4시간+96시간(연차 12개 적용)=1,556시간
A20: 1,556시간/12개월(년)=130시간
A21: 나. 야간근로시간 산출표 : [(6일Ｘ2.5시간Ｘ52주]=780시간
A22: 780시간/12개월(년)=65시간
A24: 다. 성수기 1월, 2월, 3월, 11월, 12월 중 공휴일 일수 : 1월(9일), 2월(11일), 3월(11일), 11월(9일), 12월(10일)
A25: ㅡ 정상시간 산출표 : (9일Ｘ4시간)+(11일Ｘ4시간)+(11일Ｘ4시간)+(9일Ｘ4시간)+(10일Ｘ4시간) =200시간
... A28: 발표하는 제조부분 단순노무종사원 노임 71,837원으로 적용/시급(8,980원)을 적용

Sheet 퇴직금 산출
A1: 퇴직금 산출 조서
A3: 구 분 | B3: 직종명 | C3: 근무형태 | D3: 작업인원 | E3: 기본급 | F3: 산출식 | G3: 월간산출금액 | H3: 년간 금액 | I3: 비 고
A4: 계 | H4: =H5 -> 7296250
A5: 퇴직금 | B5: 단순노무종사원 | C5: 정상근무 | D5: 5 | E5: =직접인건비산출표!I4 -> 87555000 | F5: 0.083333333 | H5: =E5*F5 -> 7296250
A7: 주) 근로기준법 제34조 1항에 의거 기본급의 1/12로 계상

Sheet 복리후생비(5대보험)산정
A1: 복리후생비(5대보험) 기준액 조서
A3: 비 목 구 분 | B3: 산출기준액 | C3: 산출식 | D3: 월단가 | E3: 공수 | F3: 합 계 | G3: 비 고
A4: [년간 복리후생비 산출내역서]
A5: 계 | F5: =SUM(F6:F18) -> 9634024
A6: 산재보험료 | B6: =직접인건비산출표!H4 -> 7296250 | C6: 17.5/1,000 | D6: =ROUNDUP(B6*1.75%,0) -> 127685 | E6: 12 | F6: =E6*D6 -> 1532220 | G6: 산업재해보상보험법 제4조
A7: 국민연금 | B7: =B6 -> 7296250 | C7: 45/1,000 | D7: =ROUNDUP(B7*4.5%,0) -> 328332 | E7: 12 | F7: =E7*D7 -> 3939984 | G7: 국민연금법 제88조
A8: 건강보험 | B8: =B7 -> 7296250 | C8: 3.23/100 | D8: =ROUNDUP(B8*3.23%,0) -> 235669 | E8: 12 | F8: =E8*D8 -> 2828028 | G8: 국민건강보험법 제69조
A9: 노인장기요양보험 | B9: =F8/12 -> 235669 | C9: 8.51/100 | D9: =ROUNDUP(B9*8.51%,0) -> 20056 | E9: 12 | F9: =E9*D9 -> 240672 | G9: 노인장기요양보험법 제9조
A10: 고용보험 | B10: =B8 -> 7296250 | C10: 9/1,000 | D10: =ROUNDUP(B10*0.9%,0) -> 65667 | E10: 12 | F10: =E10*D10 -> 788004 | G10: 고용보험법 제6조
A11: 임금채권보장보험 | B11: =B10 -> 7296250 | C11: 0.6/1,000 | D11: =ROUNDUP(B11*0.06%,0) -> 4378 | E11: 12 | F11: =E11*D11 -> 52536 | G11: 임금채권보장보험법 제9조
A12: [성수기 추가 복리후생비 산출내역서]
A13: 산재보험료 | B13: =직접인건비산출표!I9 -> 2357250 | C13: 17.5/1,000 | F13: =ROUNDUP(B13*1.75%,0) -> 41252 | G13: 산업재해보상보험법 제4조
A14: 국민연금 | B14: =B13 -> 2357250 | C14: 45/1,000 | F14: =ROUNDUP(B14*4.5%,0) -> 106077 | G14: 국민연금법 제88조
A15: 건강보험 | B15: =B14 -> 2357250 | C15: 3.23/100 | F15: =ROUNDUP(B15*3.23%,0) -> 76140 | G15: 국민건강보험법 제69조
A16: 노인장기요양보험 | B16: =F15 -> 76140 | C16: 8.51/100 | F16: =ROUNDUP(B16*8.51%,0) -> 6480 | G16: 노인장기요양보험법 제9조
A17: 고용보험 | B17: =B15 -> 2357250 | C17: 9/1,000 | F17: =ROUNDUP(B17*0.9%,0) -> 21216 | G17: 고용보험법 제6조
A18: 임금채권보장보험 | B18: =B15 -> 2357250 | C18: 0.6/1,000 | F18: =ROUNDUP(B18*0.06%,0) -> 1415 | G18: 임금채권보장보험법 제9조

Sheet 복리후생비(피복비)
A1: 복리후생비(피복비) 기준액 조서
A3: 비 목 구 분 | B3: 산출기준액 | C3: 인원 | D3: 지급기준 | E3: 월 지급액 | F3: 년간금액 | G3: 비 고
A4: [복리후생비 산출내역서]
A5: 계 | E5: =E6 -> 25000 | F5: =F6 -> 300000
A6: 피복비 | B6: 20000 | C6: 5 | D6: 분기1회(0.25) | E6: =20000*5*0.25 -> 25000 | F6: =E6*12 -> 300000 | G6: 분기1회

Sheet 기본급산정자료
A51: 공공부문 비정규직 고용개선 추진지침(2012.01.16) "보통인부" 직종은 "단순노무종사원"직종명 변경(2013.9.30) | J51: 중소제조업 직종별 임금조사 보고서(2018년 중소기업중앙회)
